BEGIN:VCALENDAR
VERSION:2.0
PRODID:-//Muzeum Pałac Saski w Kutnie - ECPv6.15.19//NONSGML v1.0//EN
CALSCALE:GREGORIAN
METHOD:PUBLISH
X-ORIGINAL-URL:https://palacsaski.eu
X-WR-CALDESC:Wydarzenia dla Muzeum Pałac Saski w Kutnie
REFRESH-INTERVAL;VALUE=DURATION:PT1H
X-Robots-Tag:noindex
X-PUBLISHED-TTL:PT1H
BEGIN:VTIMEZONE
TZID:Europe/Warsaw
BEGIN:DAYLIGHT
TZOFFSETFROM:+0100
TZOFFSETTO:+0200
TZNAME:CEST
DTSTART:20250330T010000
END:DAYLIGHT
BEGIN:STANDARD
TZOFFSETFROM:+0200
TZOFFSETTO:+0100
TZNAME:CET
DTSTART:20251026T010000
END:STANDARD
BEGIN:DAYLIGHT
TZOFFSETFROM:+0100
TZOFFSETTO:+0200
TZNAME:CEST
DTSTART:20260329T010000
END:DAYLIGHT
BEGIN:STANDARD
TZOFFSETFROM:+0200
TZOFFSETTO:+0100
TZNAME:CET
DTSTART:20261025T010000
END:STANDARD
BEGIN:DAYLIGHT
TZOFFSETFROM:+0100
TZOFFSETTO:+0200
TZNAME:CEST
DTSTART:20270328T010000
END:DAYLIGHT
BEGIN:STANDARD
TZOFFSETFROM:+0200
TZOFFSETTO:+0100
TZNAME:CET
DTSTART:20271031T010000
END:STANDARD
END:VTIMEZONE
BEGIN:VEVENT
DTSTART;TZID=Europe/Warsaw:20260413T080000
DTEND;TZID=Europe/Warsaw:20260607T170000
DTSTAMP:20260419T153827
CREATED:20260406T141122Z
LAST-MODIFIED:20260406T141541Z
UID:55312-1776067200-1780851600@palacsaski.eu
SUMMARY:„To był świat siedemdziesiątych lat (dekada Gierka)”
DESCRIPTION:Muzeum Pałac Saski w Kutnie zaprasza na wyjątkową podróż w czasie – do realiów życia codziennego w Polsce lat 70.\, nazywanych często dekadą Edwarda Gierka. To okres dynamicznych przemian\, rozwoju\, ale także kontrastów\, które na stałe zapisały się w pamięci wielu pokoleń. \nNa wystawie „To był świat siedemdziesiątych lat (dekada Gierka)” odwiedzający będą mieli okazję zobaczyć przedmioty codziennego użytku\, sprzęty gospodarstwa domowego\, elementy wyposażenia mieszkań oraz charakterystyczne detale epoki PRL. Ekspozycja pozwala nie tylko przypomnieć sobie tamte czasy\, ale także lepiej zrozumieć realia życia w Polsce sprzed kilkudziesięciu lat. \nTo propozycja zarówno dla tych\, którzy pamiętają lata 70. z własnego doświadczenia\, jak i dla młodszych odbiorców\, chcących poznać historię poprzez autentyczne przedmioty i klimat minionej epoki. \nCzas trwania wystawy:13 kwietnia – 7 czerwca 2026 \nMiejsce:Muzeum Pałac Saski w Kutnie \nSerdecznie zapraszamy do odwiedzenia wystawy i odkrycia\, jak wyglądała codzienność w Polsce lat siedemdziesiątych!
URL:https://palacsaski.eu/wydarzenie/to-byl-swiat-siedemdziesiatych-lat-dekada-gierka/
LOCATION:Muzeum Pałac Saski w Kutnie
CATEGORIES:Wystawa
ATTACH;FMTTYPE=image/jpeg:https://palacsaski.eu/wp-content/uploads/2026/03/Plakat-wystawa-PRL1.jpg
END:VEVENT
BEGIN:VEVENT
DTSTART;TZID=Europe/Warsaw:20260501T140000
DTEND;TZID=Europe/Warsaw:20260503T180000
DTSTAMP:20260419T153827
CREATED:20260406T142554Z
LAST-MODIFIED:20260409T103416Z
UID:55319-1777644000-1777831200@palacsaski.eu
SUMMARY:Festiwal Saski 2026 – „Król i Jego rzemieślnicy”
DESCRIPTION:Muzeum Pałac Saski w Kutnie zaprasza na kolejną edycję Festiwalu Saskiego – wyjątkowego wydarzenia plenerowego\, które przeniesie uczestników w czasy dawnej Rzeczypospolitej. Tegoroczna edycja odbywa się pod hasłem:„Król i Jego rzemieślnicy” \nW dniach 1–3 maja 2026 plac przed Pałacem Saskim oraz Park Traugutta zamienią się w tętniące życiem historyczne miasteczko\, pełne rzemiosła\, pokazów\, muzyki i atrakcji dla całych rodzin. \n Co na Was czeka? \n🔸 Pałac Saski i jego okolice: \n\nwykłady popularnonaukowe\nwarsztaty muzyczne i kulinarne\npokazy taneczne\nstrefa zabaw dla najmłodszych (warsztaty\, animacje\, teatr lalek)\n\n🔸 Plac Piłsudskiego: \n\nmiasteczko rzemieślnicze – pokazy i warsztaty dawnych zawodów\nkarczma i browar rzemieślniczy\nspektakle teatralne\npokazy i warsztaty taneczne\npokazy sokolnicze\nfinał konkursu rzemieślniczego\nparada rekonstruktorów\n\n🔸 Park Traugutta: \n\nobóz wojskowy\ndynamiczne pokazy militarne\n\n🔸 Tereny zielone nad Ochnią (Zielona Zośka): \n\nStrefa Aktywności Miejskiej\ndynamiczne pokazy ognia i widowiskowe elementy pirotechniczneZwiedzanie Pałacu Saskiego\n\n\nbilet eventowy: 16 zł\ngodziny:\n\nsobota: 10:00–20:00 (ostatnie wejście 18:00)\nniedziela: 10:00–20:00 (ostatnie wejście 18:00)\n\n\n\nTermin wydarzenia:1–3 maja 2026 \nMiejsce: Kutno – Pałac Saski\, Plac Piłsudskiego\, Park Traugutta oraz tereny nad Ochnią \nGość specjalny:Mariusz Jakus \n\n		\n	\n	\n	\n	\n		Festiwal Saski 2026 - GarncarzFestiwal Saski 2026 - OchmistrzFestiwal Saski 2026 - W klatce	\n	\n	\n\n	\nFestiwal Saski to wydarzenie dla całych rodzin – łączące historię\, edukację i rozrywkę. To doskonała okazja\, by poczuć klimat dawnych epok\, zobaczyć rzemiosło w praktyce i aktywnie spędzić majówkę w Kutnie. \nSerdecznie zapraszamy!
URL:https://palacsaski.eu/wydarzenie/festiwal-saski-2026-krol-i-jego-rzemieslnicy/
CATEGORIES:Festiwal Saski
ATTACH;FMTTYPE=image/jpeg:https://palacsaski.eu/wp-content/uploads/2026/03/Druk_Plakat_Festiwal_Saski_Program.jpg
END:VEVENT
END:VCALENDAR